View In:
ArcGIS JavaScript
ArcGIS Online Map Viewer
ArcGIS Earth
ArcMap
View Footprint In:
ArcGIS Online Map Viewer
Service Description: Sentinel122019_ml_tp_tif
Name: Sentinel122019_ml_tp_tif
Description:
Single Fused Map Cache: false
Extent:
XMin: 299804.5661775138
YMin: 2290308.107953675
XMax: 509563.63885475055
YMax: 2500127.1674424266
Spatial Reference: 3405
(3405)
Initial Extent:
XMin: 299804.5661775138
YMin: 2290308.107953675
XMax: 509563.63885475055
YMax: 2500127.1674424266
Spatial Reference: 3405
(3405)
Full Extent:
XMin: 299804.5661775138
YMin: 2290308.107953675
XMax: 509563.63885475055
YMax: 2500127.1674424266
Spatial Reference: 3405
(3405)
Pixel Size X: 20.001818697171426
Pixel Size Y: 19.999910350657846
Band Count: 3
Pixel Type: S16
RasterFunction Infos: {"rasterFunctionInfos": [{
"name": "None",
"description": "",
"help": ""
}]}
Mensuration Capabilities: Basic
Has Histograms: false
Has Colormap: false
Has Multi Dimensions : false
Rendering Rule:
Min Scale: 0
Max Scale: 0
Copyright Text:
Service Data Type: esriImageServiceDataTypeGeneric
Min Values: N/A
Max Values: N/A
Mean Values: N/A
Standard Deviation Values: N/A
Object ID Field:
Fields:
None
Default Mosaic Method: Center
Allowed Mosaic Methods:
SortField:
SortValue: null
Mosaic Operator: First
Default Compression Quality: 75
Default Resampling Method: Bilinear
Max Record Count: null
Max Image Height: 4100
Max Image Width: 15000
Max Download Image Count: null
Max Mosaic Image Count: null
Allow Raster Function: true
Allow Copy: null
Allow Analysis: null
Allow Compute TiePoints: false
Supports Statistics: false
Supports Advanced Queries: false
Use StandardizedQueries: true
Raster Type Infos:
Name: Raster Dataset
Description: Supports all ArcGIS Raster Datasets
Help:
Has Raster Attribute Table: false
Edit Fields Info: null
Ownership Based AccessControl For Rasters: null
Child Resources:
Info
Key Properties
Legend
Raster Function Infos
Supported Operations:
Export Image
Identify
Measure
Compute Histograms
Compute Statistics Histograms
Get Samples
Compute Class Statistics
Query Boundary
Compute Pixel Location
Compute Angles
Validate
Project