{
 "currentVersion": 10.91,
 "serviceDescription": "Sentinel122019_ml_tp_tif",
 "name": "Sentinel122019_ml_tp_tif",
 "description": "",
 "extent": {
  "xmin": 299804.5661775138,
  "ymin": 2290308.107953675,
  "xmax": 509563.63885475055,
  "ymax": 2500127.1674424266,
  "spatialReference": {
   "wkid": 3405,
   "latestWkid": 3405
  }
 },
 "initialExtent": {
  "xmin": 299804.5661775138,
  "ymin": 2290308.107953675,
  "xmax": 509563.63885475055,
  "ymax": 2500127.1674424266,
  "spatialReference": {
   "wkid": 3405,
   "latestWkid": 3405
  }
 },
 "fullExtent": {
  "xmin": 299804.5661775138,
  "ymin": 2290308.107953675,
  "xmax": 509563.63885475055,
  "ymax": 2500127.1674424266,
  "spatialReference": {
   "wkid": 3405,
   "latestWkid": 3405
  }
 },
 "pixelSizeX": 20.001818697171426,
 "pixelSizeY": 19.999910350657846,
 "bandCount": 3,
 "pixelType": "S16",
 "minPixelSize": 0,
 "maxPixelSize": 0,
 "copyrightText": "",
 "serviceDataType": "esriImageServiceDataTypeGeneric",
 "minValues": [],
 "maxValues": [],
 "meanValues": [],
 "stdvValues": [],
 "objectIdField": "",
 "fields": [],
 "capabilities": "Image,Metadata,Mensuration",
 "defaultMosaicMethod": "Center",
 "allowedMosaicMethods": "",
 "sortField": "",
 "sortValue": null,
 "sortAscending": true,
 "mosaicOperator": "First",
 "defaultCompressionQuality": 75,
 "defaultResamplingMethod": "Bilinear",
 "maxImageHeight": 4100,
 "maxImageWidth": 15000,
 "allowRasterFunction": true,
 "rasterFunctionInfos": [
  {
   "name": "None",
   "description": "",
   "help": ""
  }
 ],
 "rasterTypeInfos": [
  {
   "name": "Raster Dataset",
   "description": "Supports all ArcGIS Raster Datasets",
   "help": ""
  }
 ],
 "mensurationCapabilities": "Basic",
 "hasHistograms": false,
 "hasColormap": false,
 "hasRasterAttributeTable": false,
 "minScale": 0,
 "maxScale": 0,
 "exportTilesAllowed": false,
 "hasMultidimensions": false,
 "supportsStatistics": false,
 "supportsAdvancedQueries": false,
 "editFieldsInfo": null,
 "ownershipBasedAccessControlForRasters": null,
 "allowComputeTiePoints": false,
 "useStandardizedQueries": true,
 "advancedQueryCapabilities": {
  "useStandardizedQueries": true,
  "supportsStatistics": false,
  "supportsOrderBy": false,
  "supportsDistinct": false,
  "supportsPagination": false
 },
 "spatialReference": {
  "wkid": 3405,
  "latestWkid": 3405
 }
}
