View In:
ArcGIS JavaScript
ArcGIS Online Map Viewer
ArcGIS Earth
ArcMap
View Footprint In:
ArcGIS Online Map Viewer
Service Description: SFB_Cambodia/Forest_and_forest_change
Name: SFB_Cambodia/Forest_and_forest_change
Description:
Single Fused Map Cache: false
Extent:
XMin: -2255558.7865612223
YMin: 2847411.8137793723
XMax: -2131761.0849105776
YMax: 2991347.2748985216
Spatial Reference: 102030
(102030)
Initial Extent:
XMin: -2255558.7865612223
YMin: 2847411.8137793723
XMax: -2131761.0849105776
YMax: 2991347.2748985216
Spatial Reference: 102030
(102030)
Full Extent:
XMin: -2255558.7865612223
YMin: 2847411.8137793723
XMax: -2131761.0849105776
YMax: 2991347.2748985216
Spatial Reference: 102030
(102030)
Pixel Size X: 55.02120073361984
Pixel Size Y: 55.02120073361978
Band Count: 1
Pixel Type: U4
RasterFunction Infos: {"rasterFunctionInfos": [{
"name": "None",
"description": "",
"help": ""
}]}
Mensuration Capabilities: Basic
Has Histograms: true
Has Colormap: false
Has Multi Dimensions : false
Rendering Rule:
Min Scale: 0
Max Scale: 0
Copyright Text:
Service Data Type: esriImageServiceDataTypeGeneric
Min Values: 1
Max Values: 4
Mean Values: 1.3972366990232
Standard Deviation Values: 0.54064882995089
Object ID Field:
Fields:
None
Default Mosaic Method: Center
Allowed Mosaic Methods:
SortField:
SortValue: null
Mosaic Operator: First
Default Compression Quality: 75
Default Resampling Method: Bilinear
Max Record Count: null
Max Image Height: 4100
Max Image Width: 15000
Max Download Image Count: null
Max Mosaic Image Count: null
Allow Raster Function: true
Allow Copy: null
Allow Analysis: null
Allow Compute TiePoints: false
Supports Statistics: false
Supports Advanced Queries: false
Use StandardizedQueries: true
Raster Type Infos:
Name: Raster Dataset
Description: Supports all ArcGIS Raster Datasets
Help:
Has Raster Attribute Table: true
Edit Fields Info: null
Ownership Based AccessControl For Rasters: null
Child Resources:
Info
Raster Attribute Table
Histograms
Key Properties
Legend
Raster Function Infos
Supported Operations:
Export Image
Identify
Measure
Compute Histograms
Compute Statistics Histograms
Get Samples
Compute Class Statistics
Query Boundary
Compute Pixel Location
Compute Angles
Validate
Project