{
 "currentVersion": 10.91,
 "serviceDescription": "SFB_Cambodia/Forest_and_forest_change",
 "name": "SFB_Cambodia/Forest_and_forest_change",
 "description": "",
 "extent": {
  "xmin": -2255558.7865612223,
  "ymin": 2847411.8137793723,
  "xmax": -2131761.0849105776,
  "ymax": 2991347.2748985216,
  "spatialReference": {
   "wkid": 102030,
   "latestWkid": 102030
  }
 },
 "initialExtent": {
  "xmin": -2255558.7865612223,
  "ymin": 2847411.8137793723,
  "xmax": -2131761.0849105776,
  "ymax": 2991347.2748985216,
  "spatialReference": {
   "wkid": 102030,
   "latestWkid": 102030
  }
 },
 "fullExtent": {
  "xmin": -2255558.7865612223,
  "ymin": 2847411.8137793723,
  "xmax": -2131761.0849105776,
  "ymax": 2991347.2748985216,
  "spatialReference": {
   "wkid": 102030,
   "latestWkid": 102030
  }
 },
 "pixelSizeX": 55.02120073361984,
 "pixelSizeY": 55.02120073361978,
 "bandCount": 1,
 "pixelType": "U4",
 "minPixelSize": 0,
 "maxPixelSize": 0,
 "copyrightText": "",
 "serviceDataType": "esriImageServiceDataTypeGeneric",
 "minValues": [
  1
 ],
 "maxValues": [
  4
 ],
 "meanValues": [
  1.3972366990232
 ],
 "stdvValues": [
  0.54064882995089
 ],
 "objectIdField": "",
 "fields": [],
 "capabilities": "Image,Metadata,Mensuration",
 "defaultMosaicMethod": "Center",
 "allowedMosaicMethods": "",
 "sortField": "",
 "sortValue": null,
 "sortAscending": true,
 "mosaicOperator": "First",
 "defaultCompressionQuality": 75,
 "defaultResamplingMethod": "Bilinear",
 "maxImageHeight": 4100,
 "maxImageWidth": 15000,
 "allowRasterFunction": true,
 "rasterFunctionInfos": [
  {
   "name": "None",
   "description": "",
   "help": ""
  }
 ],
 "rasterTypeInfos": [
  {
   "name": "Raster Dataset",
   "description": "Supports all ArcGIS Raster Datasets",
   "help": ""
  }
 ],
 "mensurationCapabilities": "Basic",
 "hasHistograms": true,
 "hasColormap": false,
 "hasRasterAttributeTable": true,
 "minScale": 0,
 "maxScale": 0,
 "exportTilesAllowed": false,
 "hasMultidimensions": false,
 "supportsStatistics": false,
 "supportsAdvancedQueries": false,
 "editFieldsInfo": null,
 "ownershipBasedAccessControlForRasters": null,
 "allowComputeTiePoints": false,
 "useStandardizedQueries": true,
 "advancedQueryCapabilities": {
  "useStandardizedQueries": true,
  "supportsStatistics": false,
  "supportsOrderBy": false,
  "supportsDistinct": false,
  "supportsPagination": false
 },
 "spatialReference": {
  "wkid": 102030,
  "latestWkid": 102030
 }
}
