View In:
ArcGIS JavaScript
ArcGIS Online Map Viewer
ArcGIS Earth
ArcMap
View Footprint In:
ArcGIS Online Map Viewer
Service Description: QN_natural_forest_tCha
Name: QN_natural_forest_tCha
Description:
Single Fused Map Cache: false
Extent:
XMin: 650242.211822497
YMin: 2292710.6653137445
XMax: 820642.211822497
YMax: 2397680.6653137445
Spatial Reference: 32648
(32648)
Initial Extent:
XMin: 650242.211822497
YMin: 2292710.6653137445
XMax: 820642.211822497
YMax: 2397680.6653137445
Spatial Reference: 32648
(32648)
Full Extent:
XMin: 650242.211822497
YMin: 2292710.6653137445
XMax: 820642.211822497
YMax: 2397680.6653137445
Spatial Reference: 32648
(32648)
Pixel Size X: 30.0
Pixel Size Y: 30.0
Band Count: 1
Pixel Type: F32
RasterFunction Infos: {"rasterFunctionInfos": [{
"name": "None",
"description": "",
"help": ""
}]}
Mensuration Capabilities: Basic
Has Histograms: true
Has Colormap: false
Has Multi Dimensions : false
Rendering Rule:
Min Scale: 0
Max Scale: 0
Copyright Text:
Service Data Type: esriImageServiceDataTypeGeneric
Min Values: 14.489999771118164
Max Values: 137.1199951171875
Mean Values: 36.09740188911234
Standard Deviation Values: 15.262994056486741
Object ID Field:
Fields:
None
Default Mosaic Method: Center
Allowed Mosaic Methods:
SortField:
SortValue: null
Mosaic Operator: First
Default Compression Quality: 75
Default Resampling Method: Bilinear
Max Record Count: null
Max Image Height: 4100
Max Image Width: 15000
Max Download Image Count: null
Max Mosaic Image Count: null
Allow Raster Function: true
Allow Copy: null
Allow Analysis: null
Allow Compute TiePoints: false
Supports Statistics: false
Supports Advanced Queries: false
Use StandardizedQueries: true
Raster Type Infos:
Name: Raster Dataset
Description: Supports all ArcGIS Raster Datasets
Help:
Has Raster Attribute Table: false
Edit Fields Info: null
Ownership Based AccessControl For Rasters: null
Child Resources:
Info
Histograms
Key Properties
Legend
Raster Function Infos
Supported Operations:
Export Image
Identify
Measure
Compute Histograms
Compute Statistics Histograms
Get Samples
Compute Class Statistics
Query Boundary
Compute Pixel Location
Compute Angles
Validate
Project