{
 "currentVersion": 10.91,
 "serviceDescription": "QN_natural_forest_tCha",
 "name": "QN_natural_forest_tCha",
 "description": "",
 "extent": {
  "xmin": 650242.211822497,
  "ymin": 2292710.6653137445,
  "xmax": 820642.211822497,
  "ymax": 2397680.6653137445,
  "spatialReference": {
   "wkid": 32648,
   "latestWkid": 32648
  }
 },
 "initialExtent": {
  "xmin": 650242.211822497,
  "ymin": 2292710.6653137445,
  "xmax": 820642.211822497,
  "ymax": 2397680.6653137445,
  "spatialReference": {
   "wkid": 32648,
   "latestWkid": 32648
  }
 },
 "fullExtent": {
  "xmin": 650242.211822497,
  "ymin": 2292710.6653137445,
  "xmax": 820642.211822497,
  "ymax": 2397680.6653137445,
  "spatialReference": {
   "wkid": 32648,
   "latestWkid": 32648
  }
 },
 "pixelSizeX": 30,
 "pixelSizeY": 30,
 "bandCount": 1,
 "pixelType": "F32",
 "minPixelSize": 0,
 "maxPixelSize": 0,
 "copyrightText": "",
 "serviceDataType": "esriImageServiceDataTypeGeneric",
 "minValues": [
  14.489999771118164
 ],
 "maxValues": [
  137.1199951171875
 ],
 "meanValues": [
  36.09740188911234
 ],
 "stdvValues": [
  15.262994056486741
 ],
 "objectIdField": "",
 "fields": [],
 "capabilities": "Image,Metadata,Mensuration",
 "defaultMosaicMethod": "Center",
 "allowedMosaicMethods": "",
 "sortField": "",
 "sortValue": null,
 "sortAscending": true,
 "mosaicOperator": "First",
 "defaultCompressionQuality": 75,
 "defaultResamplingMethod": "Bilinear",
 "maxImageHeight": 4100,
 "maxImageWidth": 15000,
 "allowRasterFunction": true,
 "rasterFunctionInfos": [
  {
   "name": "None",
   "description": "",
   "help": ""
  }
 ],
 "rasterTypeInfos": [
  {
   "name": "Raster Dataset",
   "description": "Supports all ArcGIS Raster Datasets",
   "help": ""
  }
 ],
 "mensurationCapabilities": "Basic",
 "hasHistograms": true,
 "hasColormap": false,
 "hasRasterAttributeTable": false,
 "minScale": 0,
 "maxScale": 0,
 "exportTilesAllowed": false,
 "hasMultidimensions": false,
 "supportsStatistics": false,
 "supportsAdvancedQueries": false,
 "editFieldsInfo": null,
 "ownershipBasedAccessControlForRasters": null,
 "allowComputeTiePoints": false,
 "useStandardizedQueries": true,
 "advancedQueryCapabilities": {
  "useStandardizedQueries": true,
  "supportsStatistics": false,
  "supportsOrderBy": false,
  "supportsDistinct": false,
  "supportsPagination": false
 },
 "spatialReference": {
  "wkid": 32648,
  "latestWkid": 32648
 }
}
