View In:
ArcGIS JavaScript
ArcGIS Online Map Viewer
ArcGIS Earth
ArcMap
View Footprint In:
ArcGIS Online Map Viewer
Service Description: Global_Surface_Water_change_Niger_Burkina_Faso
Name: Global_Surface_Water_change_Niger_Burkina_Faso
Description:
Single Fused Map Cache: false
Extent:
XMin: -614382.095610369
YMin: 1034981.9922700818
XMax: 1780639.7390281782
YMax: 2530610.086766637
Spatial Reference: 54034
(54034)
Initial Extent:
XMin: -614382.095610369
YMin: 1034981.9922700818
XMax: 1780639.7390281782
YMax: 2530610.086766637
Spatial Reference: 54034
(54034)
Full Extent:
XMin: -614382.095610369
YMin: 1034981.9922700818
XMax: 1780639.7390281782
YMax: 2530610.086766637
Spatial Reference: 54034
(54034)
Pixel Size X: 27.255181676474805
Pixel Size Y: 27.25518167647481
Band Count: 1
Pixel Type: U8
RasterFunction Infos: {"rasterFunctionInfos": [{
"name": "None",
"description": "",
"help": ""
}]}
Mensuration Capabilities: Basic
Has Histograms: true
Has Colormap: false
Has Multi Dimensions : false
Rendering Rule:
Min Scale: 0
Max Scale: 0
Copyright Text:
Service Data Type: esriImageServiceDataTypeGeneric
Min Values: 0
Max Values: 254
Mean Values: 219.99917560291843
Standard Deviation Values: 85.03480533343317
Object ID Field:
Fields:
None
Default Mosaic Method: Center
Allowed Mosaic Methods:
SortField:
SortValue: null
Mosaic Operator: First
Default Compression Quality: 75
Default Resampling Method: Bilinear
Max Record Count: null
Max Image Height: 4100
Max Image Width: 15000
Max Download Image Count: null
Max Mosaic Image Count: null
Allow Raster Function: true
Allow Copy: null
Allow Analysis: null
Allow Compute TiePoints: false
Supports Statistics: false
Supports Advanced Queries: false
Use StandardizedQueries: true
Raster Type Infos:
Name: Raster Dataset
Description: Supports all ArcGIS Raster Datasets
Help:
Has Raster Attribute Table: true
Edit Fields Info: null
Ownership Based AccessControl For Rasters: null
Child Resources:
Info
Raster Attribute Table
Histograms
Key Properties
Legend
Raster Function Infos
Supported Operations:
Export Image
Identify
Measure
Compute Histograms
Compute Statistics Histograms
Get Samples
Compute Class Statistics
Query Boundary
Compute Pixel Location
Compute Angles
Validate
Project