{
 "currentVersion": 10.91,
 "serviceDescription": "Global_Surface_Water_change_Niger_Burkina_Faso",
 "name": "Global_Surface_Water_change_Niger_Burkina_Faso",
 "description": "",
 "extent": {
  "xmin": -614382.095610369,
  "ymin": 1034981.9922700818,
  "xmax": 1780639.7390281782,
  "ymax": 2530610.086766637,
  "spatialReference": {
   "wkid": 54034,
   "latestWkid": 54034
  }
 },
 "initialExtent": {
  "xmin": -614382.095610369,
  "ymin": 1034981.9922700818,
  "xmax": 1780639.7390281782,
  "ymax": 2530610.086766637,
  "spatialReference": {
   "wkid": 54034,
   "latestWkid": 54034
  }
 },
 "fullExtent": {
  "xmin": -614382.095610369,
  "ymin": 1034981.9922700818,
  "xmax": 1780639.7390281782,
  "ymax": 2530610.086766637,
  "spatialReference": {
   "wkid": 54034,
   "latestWkid": 54034
  }
 },
 "pixelSizeX": 27.255181676474805,
 "pixelSizeY": 27.25518167647481,
 "bandCount": 1,
 "pixelType": "U8",
 "minPixelSize": 0,
 "maxPixelSize": 0,
 "copyrightText": "",
 "serviceDataType": "esriImageServiceDataTypeGeneric",
 "minValues": [
  0
 ],
 "maxValues": [
  254
 ],
 "meanValues": [
  219.99917560291843
 ],
 "stdvValues": [
  85.03480533343317
 ],
 "objectIdField": "",
 "fields": [],
 "capabilities": "Image,Metadata,Mensuration",
 "defaultMosaicMethod": "Center",
 "allowedMosaicMethods": "",
 "sortField": "",
 "sortValue": null,
 "sortAscending": true,
 "mosaicOperator": "First",
 "defaultCompressionQuality": 75,
 "defaultResamplingMethod": "Bilinear",
 "maxImageHeight": 4100,
 "maxImageWidth": 15000,
 "allowRasterFunction": true,
 "rasterFunctionInfos": [
  {
   "name": "None",
   "description": "",
   "help": ""
  }
 ],
 "rasterTypeInfos": [
  {
   "name": "Raster Dataset",
   "description": "Supports all ArcGIS Raster Datasets",
   "help": ""
  }
 ],
 "mensurationCapabilities": "Basic",
 "hasHistograms": true,
 "hasColormap": false,
 "hasRasterAttributeTable": true,
 "minScale": 0,
 "maxScale": 0,
 "exportTilesAllowed": false,
 "hasMultidimensions": false,
 "supportsStatistics": false,
 "supportsAdvancedQueries": false,
 "editFieldsInfo": null,
 "ownershipBasedAccessControlForRasters": null,
 "allowComputeTiePoints": false,
 "useStandardizedQueries": true,
 "advancedQueryCapabilities": {
  "useStandardizedQueries": true,
  "supportsStatistics": false,
  "supportsOrderBy": false,
  "supportsDistinct": false,
  "supportsPagination": false
 },
 "spatialReference": {
  "wkid": 54034,
  "latestWkid": 54034
 }
}
