View In:
ArcGIS JavaScript
ArcGIS Online Map Viewer
ArcGIS Earth
ArcMap
View Footprint In:
ArcGIS Online Map Viewer
Service Description: Ecosystem_Services/siak_emissions_full
Name: Ecosystem_Services/siak_emissions_full
Description:
Single Fused Map Cache: false
Extent:
XMin: 1.1213557497200001E7
YMin: 31972.531799999997
XMax: 1.1463157497200001E7
YMax: 136072.5318
Spatial Reference: 54034
(54034)
Initial Extent:
XMin: 1.1213557497200001E7
YMin: 31972.531799999997
XMax: 1.1463157497200001E7
YMax: 136072.5318
Spatial Reference: 54034
(54034)
Full Extent:
XMin: 1.1213557497200001E7
YMin: 31972.531799999997
XMax: 1.1463157497200001E7
YMax: 136072.5318
Spatial Reference: 54034
(54034)
Pixel Size X: 100.0
Pixel Size Y: 100.0
Band Count: 1
Pixel Type: U16
RasterFunction Infos: {"rasterFunctionInfos": [{
"name": "None",
"description": "",
"help": ""
}]}
Mensuration Capabilities: Basic
Has Histograms: true
Has Colormap: false
Has Multi Dimensions : false
Rendering Rule:
Min Scale: 0
Max Scale: 0
Copyright Text:
Service Data Type: esriImageServiceDataTypeGeneric
Min Values: 1
Max Values: 1566
Mean Values: 308.77701090703476
Standard Deviation Values: 387.77386325201576
Object ID Field:
Fields:
None
Default Mosaic Method: Center
Allowed Mosaic Methods:
SortField:
SortValue: null
Mosaic Operator: First
Default Compression Quality: 75
Default Resampling Method: Bilinear
Max Record Count: null
Max Image Height: 4100
Max Image Width: 15000
Max Download Image Count: null
Max Mosaic Image Count: null
Allow Raster Function: true
Allow Copy: null
Allow Analysis: null
Allow Compute TiePoints: false
Supports Statistics: false
Supports Advanced Queries: false
Use StandardizedQueries: true
Raster Type Infos:
Name: Raster Dataset
Description: Supports all ArcGIS Raster Datasets
Help:
Has Raster Attribute Table: true
Edit Fields Info: null
Ownership Based AccessControl For Rasters: null
Child Resources:
Info
Raster Attribute Table
Histograms
Key Properties
Legend
Raster Function Infos
Supported Operations:
Export Image
Identify
Measure
Compute Histograms
Compute Statistics Histograms
Get Samples
Compute Class Statistics
Query Boundary
Compute Pixel Location
Compute Angles
Validate
Project