{
 "currentVersion": 10.91,
 "serviceDescription": "Ecosystem_Services/siak_emissions_full",
 "name": "Ecosystem_Services/siak_emissions_full",
 "description": "",
 "extent": {
  "xmin": 1.1213557497200001E7,
  "ymin": 31972.531799999997,
  "xmax": 1.1463157497200001E7,
  "ymax": 136072.5318,
  "spatialReference": {
   "wkid": 54034,
   "latestWkid": 54034
  }
 },
 "initialExtent": {
  "xmin": 1.1213557497200001E7,
  "ymin": 31972.531799999997,
  "xmax": 1.1463157497200001E7,
  "ymax": 136072.5318,
  "spatialReference": {
   "wkid": 54034,
   "latestWkid": 54034
  }
 },
 "fullExtent": {
  "xmin": 1.1213557497200001E7,
  "ymin": 31972.531799999997,
  "xmax": 1.1463157497200001E7,
  "ymax": 136072.5318,
  "spatialReference": {
   "wkid": 54034,
   "latestWkid": 54034
  }
 },
 "pixelSizeX": 100,
 "pixelSizeY": 100,
 "bandCount": 1,
 "pixelType": "U16",
 "minPixelSize": 0,
 "maxPixelSize": 0,
 "copyrightText": "",
 "serviceDataType": "esriImageServiceDataTypeGeneric",
 "minValues": [
  1
 ],
 "maxValues": [
  1566
 ],
 "meanValues": [
  308.77701090703476
 ],
 "stdvValues": [
  387.77386325201576
 ],
 "objectIdField": "",
 "fields": [],
 "capabilities": "Mensuration,Image,Metadata",
 "defaultMosaicMethod": "Center",
 "allowedMosaicMethods": "",
 "sortField": "",
 "sortValue": null,
 "sortAscending": true,
 "mosaicOperator": "First",
 "defaultCompressionQuality": 75,
 "defaultResamplingMethod": "Bilinear",
 "maxImageHeight": 4100,
 "maxImageWidth": 15000,
 "allowRasterFunction": true,
 "rasterFunctionInfos": [
  {
   "name": "None",
   "description": "",
   "help": ""
  }
 ],
 "rasterTypeInfos": [
  {
   "name": "Raster Dataset",
   "description": "Supports all ArcGIS Raster Datasets",
   "help": ""
  }
 ],
 "mensurationCapabilities": "Basic",
 "hasHistograms": true,
 "hasColormap": false,
 "hasRasterAttributeTable": true,
 "minScale": 0,
 "maxScale": 0,
 "exportTilesAllowed": false,
 "hasMultidimensions": false,
 "supportsStatistics": false,
 "supportsAdvancedQueries": false,
 "editFieldsInfo": null,
 "ownershipBasedAccessControlForRasters": null,
 "allowComputeTiePoints": false,
 "useStandardizedQueries": true,
 "advancedQueryCapabilities": {
  "useStandardizedQueries": true,
  "supportsStatistics": false,
  "supportsOrderBy": false,
  "supportsDistinct": false,
  "supportsPagination": false
 },
 "spatialReference": {
  "wkid": 54034,
  "latestWkid": 54034
 }
}
