View In:
ArcGIS JavaScript
ArcGIS Online Map Viewer
ArcGIS Earth
ArcMap
View Footprint In:
ArcGIS Online Map Viewer
Service Description: Lower_Mekong_WEST/WaterStress_vulnerability_2018
Name: Lower_Mekong_WEST/WaterStress_vulnerability_2018
Description:
Single Fused Map Cache: false
Extent:
XMin: -2587734.8958858047
YMin: 2586810.479816191
XMax: -1940034.8958858047
YMax: 3143310.479816191
Spatial Reference: 102030
(102030)
Initial Extent:
XMin: -2587734.8958858047
YMin: 2586810.479816191
XMax: -1940034.8958858047
YMax: 3143310.479816191
Spatial Reference: 102030
(102030)
Full Extent:
XMin: -2587734.8958858047
YMin: 2586810.479816191
XMax: -1940034.8958858047
YMax: 3143310.479816191
Spatial Reference: 102030
(102030)
Pixel Size X: 100.0
Pixel Size Y: 100.0
Band Count: 1
Pixel Type: F64
RasterFunction Infos: {"rasterFunctionInfos": [
{
"name": "wtr_stress",
"description": "A raster function template.",
"help": ""
},
{
"name": "None",
"description": "",
"help": ""
}
]}
Mensuration Capabilities: Basic
Has Histograms: true
Has Colormap: false
Has Multi Dimensions : false
Rendering Rule:
Min Scale: 0
Max Scale: 0
Copyright Text:
Service Data Type: esriImageServiceDataTypeGeneric
Min Values: 27.7874515625
Max Values: 80.49401796875
Mean Values: 68.014908828339
Standard Deviation Values: 8.2243205421658
Object ID Field:
Fields:
None
Default Mosaic Method: Center
Allowed Mosaic Methods:
SortField:
SortValue: null
Mosaic Operator: First
Default Compression Quality: 75
Default Resampling Method: Bilinear
Max Record Count: null
Max Image Height: 4100
Max Image Width: 15000
Max Download Image Count: null
Max Mosaic Image Count: null
Allow Raster Function: true
Allow Copy: null
Allow Analysis: null
Allow Compute TiePoints: false
Supports Statistics: false
Supports Advanced Queries: false
Use StandardizedQueries: true
Raster Type Infos:
Name: Raster Dataset
Description: Supports all ArcGIS Raster Datasets
Help:
Has Raster Attribute Table: false
Edit Fields Info: null
Ownership Based AccessControl For Rasters: null
Child Resources:
Info
Histograms
Key Properties
Legend
Raster Function Infos
Supported Operations:
Export Image
Identify
Measure
Compute Histograms
Compute Statistics Histograms
Get Samples
Compute Class Statistics
Query Boundary
Compute Pixel Location
Compute Angles
Validate
Project