View In:
ArcGIS JavaScript
ArcGIS Online Map Viewer
ArcGIS Earth
ArcMap
View Footprint In:
ArcGIS Online Map Viewer
Service Description: Lower_Mekong_WEST/Sediment_Erosion_Prevention
Name: Lower_Mekong_WEST/Sediment_Erosion_Prevention
Description:
Single Fused Map Cache: false
Extent:
XMin: -2565644.2592111253
YMin: 2625411.434797827
XMax: -1964244.2592111253
YMax: 3141511.434797827
Spatial Reference: 102030
(102030)
Initial Extent:
XMin: -2565644.2592111253
YMin: 2625411.434797827
XMax: -1964244.2592111253
YMax: 3141511.434797827
Spatial Reference: 102030
(102030)
Full Extent:
XMin: -2565644.2592111253
YMin: 2625411.434797827
XMax: -1964244.2592111253
YMax: 3141511.434797827
Spatial Reference: 102030
(102030)
Pixel Size X: 100.0
Pixel Size Y: 100.0
Band Count: 1
Pixel Type: S16
RasterFunction Infos: {"rasterFunctionInfos": [{
"name": "None",
"description": "",
"help": ""
}]}
Mensuration Capabilities: Basic
Has Histograms: true
Has Colormap: false
Has Multi Dimensions : false
Rendering Rule:
Min Scale: 0
Max Scale: 0
Copyright Text:
Service Data Type: esriImageServiceDataTypeGeneric
Min Values: 1
Max Values: 5
Mean Values: 3.3169807085146
Standard Deviation Values: 0.97037802371306
Object ID Field:
Fields:
None
Default Mosaic Method: Center
Allowed Mosaic Methods:
SortField:
SortValue: null
Mosaic Operator: First
Default Compression Quality: 75
Default Resampling Method: Bilinear
Max Record Count: null
Max Image Height: 4100
Max Image Width: 15000
Max Download Image Count: null
Max Mosaic Image Count: null
Allow Raster Function: true
Allow Copy: null
Allow Analysis: null
Allow Compute TiePoints: false
Supports Statistics: false
Supports Advanced Queries: false
Use StandardizedQueries: true
Raster Type Infos:
Name: Raster Dataset
Description: Supports all ArcGIS Raster Datasets
Help:
Has Raster Attribute Table: true
Edit Fields Info: null
Ownership Based AccessControl For Rasters: null
Child Resources:
Info
Raster Attribute Table
Histograms
Key Properties
Legend
Raster Function Infos
Supported Operations:
Export Image
Identify
Measure
Compute Histograms
Compute Statistics Histograms
Get Samples
Compute Class Statistics
Query Boundary
Compute Pixel Location
Compute Angles
Validate
Project