View In:
ArcGIS JavaScript
ArcGIS Online Map Viewer
ArcGIS Earth
ArcMap
View Footprint In:
ArcGIS Online Map Viewer
Service Description: Lower_Mekong_WEST/Forest_Loss_ha_2018
Name: Lower_Mekong_WEST/Forest_Loss_ha_2018
Description:
Single Fused Map Cache: false
Extent:
XMin: -2797844.2592111374
YMin: 2374443.5466370843
XMax: -1829844.2592111374
YMax: 3311243.5466370843
Spatial Reference: PROJCS["WGS_1984_Lambert_Conformal_Conic",GEOGCS["GCS_WGS_1984",DATUM["D_WGS_1984",SPHEROID["WGS_1984",6378137.0,298.257223563]],PRIMEM["Greenwich",0.0],UNIT["Degree",0.0174532925199433]],PROJECTION["Lambert_Conformal_Conic"],PARAMETER["False_Easting",0.0],PARAMETER["False_Northing",0.0],PARAMETER["Central_Meridian",125.0],PARAMETER["Standard_Parallel_1",7.0],PARAMETER["Standard_Parallel_2",-32.0],PARAMETER["Latitude_Of_Origin",-15.0],UNIT["Meter",1.0]]
Initial Extent:
XMin: -2797844.2592111374
YMin: 2374443.5466370843
XMax: -1829844.2592111374
YMax: 3311243.5466370843
Spatial Reference: PROJCS["WGS_1984_Lambert_Conformal_Conic",GEOGCS["GCS_WGS_1984",DATUM["D_WGS_1984",SPHEROID["WGS_1984",6378137.0,298.257223563]],PRIMEM["Greenwich",0.0],UNIT["Degree",0.0174532925199433]],PROJECTION["Lambert_Conformal_Conic"],PARAMETER["False_Easting",0.0],PARAMETER["False_Northing",0.0],PARAMETER["Central_Meridian",125.0],PARAMETER["Standard_Parallel_1",7.0],PARAMETER["Standard_Parallel_2",-32.0],PARAMETER["Latitude_Of_Origin",-15.0],UNIT["Meter",1.0]]
Full Extent:
XMin: -2797844.2592111374
YMin: 2374443.5466370843
XMax: -1829844.2592111374
YMax: 3311243.5466370843
Spatial Reference: PROJCS["WGS_1984_Lambert_Conformal_Conic",GEOGCS["GCS_WGS_1984",DATUM["D_WGS_1984",SPHEROID["WGS_1984",6378137.0,298.257223563]],PRIMEM["Greenwich",0.0],UNIT["Degree",0.0174532925199433]],PROJECTION["Lambert_Conformal_Conic"],PARAMETER["False_Easting",0.0],PARAMETER["False_Northing",0.0],PARAMETER["Central_Meridian",125.0],PARAMETER["Standard_Parallel_1",7.0],PARAMETER["Standard_Parallel_2",-32.0],PARAMETER["Latitude_Of_Origin",-15.0],UNIT["Meter",1.0]]
Pixel Size X: 100.0
Pixel Size Y: 100.0
Band Count: 1
Pixel Type: S16
RasterFunction Infos: {"rasterFunctionInfos": [{
"name": "None",
"description": "",
"help": ""
}]}
Mensuration Capabilities: Basic
Has Histograms: false
Has Colormap: false
Has Multi Dimensions : false
Rendering Rule:
Min Scale: 0
Max Scale: 0
Copyright Text:
Service Data Type: esriImageServiceDataTypeThematic
Min Values: 2001
Max Values: 2018
Mean Values: 2011.4984117435
Standard Deviation Values: 4.336343615875
Object ID Field:
Fields:
None
Default Mosaic Method: Center
Allowed Mosaic Methods:
SortField:
SortValue: null
Mosaic Operator: First
Default Compression Quality: 75
Default Resampling Method: Bilinear
Max Record Count: null
Max Image Height: 4100
Max Image Width: 15000
Max Download Image Count: null
Max Mosaic Image Count: null
Allow Raster Function: true
Allow Copy: null
Allow Analysis: null
Allow Compute TiePoints: false
Supports Statistics: false
Supports Advanced Queries: false
Use StandardizedQueries: true
Raster Type Infos:
Name: Raster Dataset
Description: Supports all ArcGIS Raster Datasets
Help:
Has Raster Attribute Table: true
Edit Fields Info: null
Ownership Based AccessControl For Rasters: null
Child Resources:
Info
Raster Attribute Table
Key Properties
Legend
Raster Function Infos
Supported Operations:
Export Image
Identify
Measure
Compute Histograms
Compute Statistics Histograms
Get Samples
Compute Class Statistics
Query Boundary
Compute Pixel Location
Compute Angles
Validate
Project