View In:
ArcGIS JavaScript
ArcGIS Online Map Viewer
ArcGIS Earth
ArcMap
View Footprint In:
ArcGIS Online Map Viewer
Service Description: Lower_Mekong_WEST/Fire_vulnerability_2018
Name: Lower_Mekong_WEST/Fire_vulnerability_2018
Description:
Single Fused Map Cache: false
Extent:
XMin: -2564534.8958858047
YMin: 2628710.479816191
XMax: -1964784.8958858047
YMax: 3140710.479816191
Spatial Reference: 102030
(102030)
Initial Extent:
XMin: -2564534.8958858047
YMin: 2628710.479816191
XMax: -1964784.8958858047
YMax: 3140710.479816191
Spatial Reference: 102030
(102030)
Full Extent:
XMin: -2564534.8958858047
YMin: 2628710.479816191
XMax: -1964784.8958858047
YMax: 3140710.479816191
Spatial Reference: 102030
(102030)
Pixel Size X: 250.0
Pixel Size Y: 250.0
Band Count: 1
Pixel Type: S8
RasterFunction Infos: {"rasterFunctionInfos": [
{
"name": "BR_num_fires",
"description": "A raster function template.",
"help": ""
},
{
"name": "None",
"description": "",
"help": ""
}
]}
Mensuration Capabilities: Basic
Has Histograms: true
Has Colormap: false
Has Multi Dimensions : false
Rendering Rule:
Min Scale: 0
Max Scale: 0
Copyright Text:
Service Data Type: esriImageServiceDataTypeThematic
Min Values: 1
Max Values: 40
Mean Values: 3.3310307712678
Standard Deviation Values: 2.7696280089114
Object ID Field:
Fields:
None
Default Mosaic Method: Center
Allowed Mosaic Methods:
SortField:
SortValue: null
Mosaic Operator: First
Default Compression Quality: 75
Default Resampling Method: Bilinear
Max Record Count: null
Max Image Height: 4100
Max Image Width: 15000
Max Download Image Count: null
Max Mosaic Image Count: null
Allow Raster Function: true
Allow Copy: null
Allow Analysis: null
Allow Compute TiePoints: false
Supports Statistics: false
Supports Advanced Queries: false
Use StandardizedQueries: true
Raster Type Infos:
Name: Raster Dataset
Description: Supports all ArcGIS Raster Datasets
Help:
Has Raster Attribute Table: true
Edit Fields Info: null
Ownership Based AccessControl For Rasters: null
Child Resources:
Info
Raster Attribute Table
Histograms
Key Properties
Legend
Raster Function Infos
Supported Operations:
Export Image
Identify
Measure
Compute Histograms
Compute Statistics Histograms
Get Samples
Compute Class Statistics
Query Boundary
Compute Pixel Location
Compute Angles
Validate
Project