View In:
ArcGIS JavaScript
ArcGIS Online Map Viewer
ArcGIS Earth
ArcMap
View Footprint In:
ArcGIS Online Map Viewer
Service Description: Elevation_for_WSRA_project_area
Name: Elevation_for_WSRA_project_area
Description:
Single Fused Map Cache: false
Extent:
XMin: -2.9541666666666515
YMin: 10.590833333333336
XMax: 12.490000000000006
YMax: 17.493333333333332
Spatial Reference: 4326
(4326)
Initial Extent:
XMin: -2.9541666666666515
YMin: 10.590833333333336
XMax: 12.490000000000006
YMax: 17.493333333333332
Spatial Reference: 4326
(4326)
Full Extent:
XMin: -2.9541666666666515
YMin: 10.590833333333336
XMax: 12.490000000000006
YMax: 17.493333333333332
Spatial Reference: 4326
(4326)
Pixel Size X: 8.333333333333328E-4
Pixel Size Y: 8.333333333333328E-4
Band Count: 1
Pixel Type: S16
RasterFunction Infos: {"rasterFunctionInfos": [{
"name": "None",
"description": "",
"help": ""
}]}
Mensuration Capabilities: Basic
Has Histograms: true
Has Colormap: false
Has Multi Dimensions : false
Rendering Rule:
Min Scale: 0
Max Scale: 0
Copyright Text:
Service Data Type: esriImageServiceDataTypeGeneric
Min Values: 155
Max Values: 1057
Mean Values: 335.06682255627
Standard Deviation Values: 84.802263621167
Object ID Field:
Fields:
None
Default Mosaic Method: Center
Allowed Mosaic Methods:
SortField:
SortValue: null
Mosaic Operator: First
Default Compression Quality: 75
Default Resampling Method: Bilinear
Max Record Count: null
Max Image Height: 10000
Max Image Width: 20000
Max Download Image Count: null
Max Mosaic Image Count: null
Allow Raster Function: true
Allow Copy: null
Allow Analysis: null
Allow Compute TiePoints: false
Supports Statistics: false
Supports Advanced Queries: false
Use StandardizedQueries: true
Raster Type Infos:
Name: Raster Dataset
Description: Supports all ArcGIS Raster Datasets
Help:
Has Raster Attribute Table: false
Edit Fields Info: null
Ownership Based AccessControl For Rasters: null
Child Resources:
Info
Histograms
Key Properties
Legend
Raster Function Infos
Supported Operations:
Export Image
Identify
Measure
Compute Histograms
Compute Statistics Histograms
Get Samples
Compute Class Statistics
Query Boundary
Compute Pixel Location
Compute Angles
Validate
Project