View In:
ArcGIS JavaScript
ArcGIS Online Map Viewer
ArcGIS Earth
ArcMap
View Footprint In:
ArcGIS Online Map Viewer
Service Description: Annual_rainfall_in_WSRA_area
Name: Annual_rainfall_in_WSRA_area
Description:
Single Fused Map Cache: false
Extent:
XMin: -2.3666666666666742
YMin: 11.658333333333339
XMax: 11.566666666666661
YMax: 15.400000000000006
Spatial Reference: 4326
(4326)
Initial Extent:
XMin: -2.3666666666666742
YMin: 11.658333333333339
XMax: 11.566666666666661
YMax: 15.400000000000006
Spatial Reference: 4326
(4326)
Full Extent:
XMin: -2.3666666666666742
YMin: 11.658333333333339
XMax: 11.566666666666661
YMax: 15.400000000000006
Spatial Reference: 4326
(4326)
Pixel Size X: 0.008333333333333335
Pixel Size Y: 0.008333333333333335
Band Count: 1
Pixel Type: F64
RasterFunction Infos: {"rasterFunctionInfos": [{
"name": "None",
"description": "",
"help": ""
}]}
Mensuration Capabilities: Basic
Has Histograms: true
Has Colormap: false
Has Multi Dimensions : false
Rendering Rule:
Min Scale: 0
Max Scale: 0
Copyright Text:
Service Data Type: esriImageServiceDataTypeGeneric
Min Values: 90
Max Values: 903
Mean Values: 469.05454736588
Standard Deviation Values: 184.57918583937
Object ID Field:
Fields:
None
Default Mosaic Method: Center
Allowed Mosaic Methods:
SortField:
SortValue: null
Mosaic Operator: First
Default Compression Quality: 75
Default Resampling Method: Bilinear
Max Record Count: null
Max Image Height: 4100
Max Image Width: 15000
Max Download Image Count: null
Max Mosaic Image Count: null
Allow Raster Function: true
Allow Copy: null
Allow Analysis: null
Allow Compute TiePoints: false
Supports Statistics: false
Supports Advanced Queries: false
Use StandardizedQueries: true
Raster Type Infos:
Name: Raster Dataset
Description: Supports all ArcGIS Raster Datasets
Help:
Has Raster Attribute Table: false
Edit Fields Info: null
Ownership Based AccessControl For Rasters: null
Child Resources:
Info
Histograms
Key Properties
Legend
Raster Function Infos
Supported Operations:
Export Image
Identify
Measure
Compute Histograms
Compute Statistics Histograms
Get Samples
Compute Class Statistics
Query Boundary
Compute Pixel Location
Compute Angles
Validate
Project