{
 "currentVersion": 10.91,
 "serviceDescription": "frd2017_natural_10m_sub_carbon_level_tif",
 "name": "frd2017_natural_10m_sub_carbon_level_tif",
 "description": "",
 "extent": {
  "xmin": 434537.379787481,
  "ymin": 2133568.68376145,
  "xmax": 816947.3797874809,
  "ymax": 2397488.68376145,
  "spatialReference": {
   "wkid": 3405,
   "latestWkid": 3405
  }
 },
 "initialExtent": {
  "xmin": 434537.379787481,
  "ymin": 2133568.68376145,
  "xmax": 816947.3797874809,
  "ymax": 2397488.68376145,
  "spatialReference": {
   "wkid": 3405,
   "latestWkid": 3405
  }
 },
 "fullExtent": {
  "xmin": 434537.379787481,
  "ymin": 2133568.68376145,
  "xmax": 816947.3797874809,
  "ymax": 2397488.68376145,
  "spatialReference": {
   "wkid": 3405,
   "latestWkid": 3405
  }
 },
 "pixelSizeX": 9.999999999999998,
 "pixelSizeY": 10,
 "bandCount": 1,
 "pixelType": "U2",
 "minPixelSize": 0,
 "maxPixelSize": 0,
 "copyrightText": "",
 "serviceDataType": "esriImageServiceDataTypeGeneric",
 "minValues": [
  1
 ],
 "maxValues": [
  3
 ],
 "meanValues": [
  2.0531918844623
 ],
 "stdvValues": [
  0.65934338338506
 ],
 "objectIdField": "",
 "fields": [],
 "capabilities": "Image,Metadata,Mensuration",
 "defaultMosaicMethod": "Center",
 "allowedMosaicMethods": "",
 "sortField": "",
 "sortValue": null,
 "sortAscending": true,
 "mosaicOperator": "First",
 "defaultCompressionQuality": 75,
 "defaultResamplingMethod": "Bilinear",
 "maxImageHeight": 4100,
 "maxImageWidth": 15000,
 "allowRasterFunction": true,
 "rasterFunctionInfos": [
  {
   "name": "None",
   "description": "",
   "help": ""
  }
 ],
 "rasterTypeInfos": [
  {
   "name": "Raster Dataset",
   "description": "Supports all ArcGIS Raster Datasets",
   "help": ""
  }
 ],
 "mensurationCapabilities": "Basic",
 "hasHistograms": true,
 "hasColormap": false,
 "hasRasterAttributeTable": true,
 "minScale": 0,
 "maxScale": 0,
 "exportTilesAllowed": false,
 "hasMultidimensions": false,
 "supportsStatistics": false,
 "supportsAdvancedQueries": false,
 "editFieldsInfo": null,
 "ownershipBasedAccessControlForRasters": null,
 "allowComputeTiePoints": false,
 "useStandardizedQueries": true,
 "advancedQueryCapabilities": {
  "useStandardizedQueries": true,
  "supportsStatistics": false,
  "supportsOrderBy": false,
  "supportsDistinct": false,
  "supportsPagination": false
 },
 "spatialReference": {
  "wkid": 3405,
  "latestWkid": 3405
 }
}
