{
 "currentVersion": 10.91,
 "serviceDescription": "forest_management_restoration_opportunities",
 "name": "forest_management_restoration_opportunities",
 "description": "",
 "extent": {
  "xmin": -205305,
  "ymin": 8050315,
  "xmax": 1484235,
  "ymax": 9018805,
  "spatialReference": {
   "wkid": 32736,
   "latestWkid": 32736
  }
 },
 "initialExtent": {
  "xmin": -205305,
  "ymin": 8050315,
  "xmax": 1484235,
  "ymax": 9018805,
  "spatialReference": {
   "wkid": 32736,
   "latestWkid": 32736
  }
 },
 "fullExtent": {
  "xmin": -205305,
  "ymin": 8050315,
  "xmax": 1484235,
  "ymax": 9018805,
  "spatialReference": {
   "wkid": 32736,
   "latestWkid": 32736
  }
 },
 "pixelSizeX": 30,
 "pixelSizeY": 30,
 "bandCount": 1,
 "pixelType": "S8",
 "minPixelSize": 0,
 "maxPixelSize": 0,
 "copyrightText": "",
 "serviceDataType": "esriImageServiceDataTypeGeneric",
 "minValues": [
  0
 ],
 "maxValues": [
  3
 ],
 "meanValues": [
  0.05149220142903757
 ],
 "stdvValues": [
  0.3743070534793468
 ],
 "objectIdField": "",
 "fields": [],
 "capabilities": "Image,Metadata,Mensuration",
 "defaultMosaicMethod": "Center",
 "allowedMosaicMethods": "",
 "sortField": "",
 "sortValue": null,
 "sortAscending": true,
 "mosaicOperator": "First",
 "defaultCompressionQuality": 75,
 "defaultResamplingMethod": "Bilinear",
 "maxImageHeight": 4100,
 "maxImageWidth": 15000,
 "allowRasterFunction": true,
 "rasterFunctionInfos": [
  {
   "name": "None",
   "description": "",
   "help": ""
  }
 ],
 "rasterTypeInfos": [
  {
   "name": "Raster Dataset",
   "description": "Supports all ArcGIS Raster Datasets",
   "help": ""
  }
 ],
 "mensurationCapabilities": "Basic",
 "hasHistograms": true,
 "hasColormap": false,
 "hasRasterAttributeTable": true,
 "minScale": 0,
 "maxScale": 0,
 "exportTilesAllowed": false,
 "hasMultidimensions": false,
 "supportsStatistics": false,
 "supportsAdvancedQueries": false,
 "editFieldsInfo": null,
 "ownershipBasedAccessControlForRasters": null,
 "allowComputeTiePoints": false,
 "useStandardizedQueries": true,
 "advancedQueryCapabilities": {
  "useStandardizedQueries": true,
  "supportsStatistics": false,
  "supportsOrderBy": false,
  "supportsDistinct": false,
  "supportsPagination": false
 },
 "spatialReference": {
  "wkid": 32736,
  "latestWkid": 32736
 }
}
