{
 "currentVersion": 10.91,
 "serviceDescription": "QN_TH_Carbon_Risk_tif",
 "name": "QN_TH_Carbon_Risk_tif",
 "description": "",
 "extent": {
  "xmin": 434537.6495335959,
  "ymin": 2133470.665313745,
  "xmax": 820607.6495335959,
  "ymax": 2397650.665313745,
  "spatialReference": {
   "wkid": 32648,
   "latestWkid": 32648
  }
 },
 "initialExtent": {
  "xmin": 434537.6495335959,
  "ymin": 2133470.665313745,
  "xmax": 820607.6495335959,
  "ymax": 2397650.665313745,
  "spatialReference": {
   "wkid": 32648,
   "latestWkid": 32648
  }
 },
 "fullExtent": {
  "xmin": 434537.6495335959,
  "ymin": 2133470.665313745,
  "xmax": 820607.6495335959,
  "ymax": 2397650.665313745,
  "spatialReference": {
   "wkid": 32648,
   "latestWkid": 32648
  }
 },
 "pixelSizeX": 30,
 "pixelSizeY": 30,
 "bandCount": 1,
 "pixelType": "U16",
 "minPixelSize": 0,
 "maxPixelSize": 0,
 "copyrightText": "",
 "serviceDataType": "esriImageServiceDataTypeThematic",
 "minValues": [
  0
 ],
 "maxValues": [
  100
 ],
 "meanValues": [
  2.4555743566425
 ],
 "stdvValues": [
  12.580953358376
 ],
 "objectIdField": "",
 "fields": [],
 "capabilities": "Image,Metadata,Mensuration",
 "defaultMosaicMethod": "Center",
 "allowedMosaicMethods": "",
 "sortField": "",
 "sortValue": null,
 "sortAscending": true,
 "mosaicOperator": "First",
 "defaultCompressionQuality": 75,
 "defaultResamplingMethod": "Bilinear",
 "maxImageHeight": 4100,
 "maxImageWidth": 15000,
 "allowRasterFunction": true,
 "rasterFunctionInfos": [
  {
   "name": "None",
   "description": "",
   "help": ""
  }
 ],
 "rasterTypeInfos": [
  {
   "name": "Raster Dataset",
   "description": "Supports all ArcGIS Raster Datasets",
   "help": ""
  }
 ],
 "mensurationCapabilities": "Basic",
 "hasHistograms": true,
 "hasColormap": false,
 "hasRasterAttributeTable": true,
 "minScale": 0,
 "maxScale": 0,
 "exportTilesAllowed": false,
 "hasMultidimensions": false,
 "supportsStatistics": false,
 "supportsAdvancedQueries": false,
 "editFieldsInfo": null,
 "ownershipBasedAccessControlForRasters": null,
 "allowComputeTiePoints": false,
 "useStandardizedQueries": true,
 "advancedQueryCapabilities": {
  "useStandardizedQueries": true,
  "supportsStatistics": false,
  "supportsOrderBy": false,
  "supportsDistinct": false,
  "supportsPagination": false
 },
 "spatialReference": {
  "wkid": 32648,
  "latestWkid": 32648
 }
}
