{
 "currentVersion": 10.91,
 "serviceDescription": "Occurrence_of_Surface_Water_Niger_and_Burkina_Faso",
 "name": "Occurrence_of_Surface_Water_Niger_and_Burkina_Faso",
 "description": "",
 "extent": {
  "xmin": -614382.0956103692,
  "ymin": 1034981.9922700815,
  "xmax": 1780639.739028178,
  "ymax": 2530610.0867666365,
  "spatialReference": {
   "wkid": 54034,
   "latestWkid": 54034
  }
 },
 "initialExtent": {
  "xmin": -614382.0956103692,
  "ymin": 1034981.9922700815,
  "xmax": 1780639.739028178,
  "ymax": 2530610.0867666365,
  "spatialReference": {
   "wkid": 54034,
   "latestWkid": 54034
  }
 },
 "fullExtent": {
  "xmin": -614382.0956103692,
  "ymin": 1034981.9922700815,
  "xmax": 1780639.739028178,
  "ymax": 2530610.0867666365,
  "spatialReference": {
   "wkid": 54034,
   "latestWkid": 54034
  }
 },
 "pixelSizeX": 27.255181676474805,
 "pixelSizeY": 27.255181676474805,
 "bandCount": 1,
 "pixelType": "U8",
 "minPixelSize": 0,
 "maxPixelSize": 0,
 "copyrightText": "",
 "serviceDataType": "esriImageServiceDataTypeGeneric",
 "minValues": [
  0
 ],
 "maxValues": [
  100
 ],
 "meanValues": [
  0.08108125149702025
 ],
 "stdvValues": [
  2.220663188708262
 ],
 "objectIdField": "",
 "fields": [],
 "capabilities": "Image,Metadata,Mensuration",
 "defaultMosaicMethod": "Center",
 "allowedMosaicMethods": "",
 "sortField": "",
 "sortValue": null,
 "sortAscending": true,
 "mosaicOperator": "First",
 "defaultCompressionQuality": 75,
 "defaultResamplingMethod": "Bilinear",
 "maxImageHeight": 4100,
 "maxImageWidth": 15000,
 "allowRasterFunction": true,
 "rasterFunctionInfos": [
  {
   "name": "None",
   "description": "",
   "help": ""
  }
 ],
 "rasterTypeInfos": [
  {
   "name": "Raster Dataset",
   "description": "Supports all ArcGIS Raster Datasets",
   "help": ""
  }
 ],
 "mensurationCapabilities": "Basic",
 "hasHistograms": true,
 "hasColormap": false,
 "hasRasterAttributeTable": true,
 "minScale": 0,
 "maxScale": 0,
 "exportTilesAllowed": false,
 "hasMultidimensions": false,
 "supportsStatistics": false,
 "supportsAdvancedQueries": false,
 "editFieldsInfo": null,
 "ownershipBasedAccessControlForRasters": null,
 "allowComputeTiePoints": false,
 "useStandardizedQueries": true,
 "advancedQueryCapabilities": {
  "useStandardizedQueries": true,
  "supportsStatistics": false,
  "supportsOrderBy": false,
  "supportsDistinct": false,
  "supportsPagination": false
 },
 "spatialReference": {
  "wkid": 54034,
  "latestWkid": 54034
 }
}
