{
 "currentVersion": 10.91,
 "serviceDescription": "Lower_Mekong_WEST/Population2001",
 "name": "Lower_Mekong_WEST/Population2001",
 "description": "",
 "extent": {
  "xmin": -2577334.8958858047,
  "ymin": 2549908.2836091127,
  "xmax": -1939357.162578153,
  "ymax": 3142156.8437251323,
  "spatialReference": {
   "wkid": 102030,
   "latestWkid": 102030
  }
 },
 "initialExtent": {
  "xmin": -2577334.8958858047,
  "ymin": 2549908.2836091127,
  "xmax": -1939357.162578153,
  "ymax": 3142156.8437251323,
  "spatialReference": {
   "wkid": 102030,
   "latestWkid": 102030
  }
 },
 "fullExtent": {
  "xmin": -2577334.8958858047,
  "ymin": 2549908.2836091127,
  "xmax": -1939357.162578153,
  "ymax": 3142156.8437251323,
  "spatialReference": {
   "wkid": 102030,
   "latestWkid": 102030
  }
 },
 "pixelSizeX": 1115.3456876007897,
 "pixelSizeY": 1115.3456876007901,
 "bandCount": 1,
 "pixelType": "U16",
 "minPixelSize": 0,
 "maxPixelSize": 0,
 "copyrightText": "",
 "serviceDataType": "esriImageServiceDataTypeGeneric",
 "minValues": [
  0
 ],
 "maxValues": [
  41809
 ],
 "meanValues": [
  56.968179738728
 ],
 "stdvValues": [
  433.87894637287
 ],
 "objectIdField": "",
 "fields": [],
 "capabilities": "Image,Metadata,Mensuration",
 "defaultMosaicMethod": "Center",
 "allowedMosaicMethods": "",
 "sortField": "",
 "sortValue": null,
 "sortAscending": true,
 "mosaicOperator": "First",
 "defaultCompressionQuality": 75,
 "defaultResamplingMethod": "Bilinear",
 "maxImageHeight": 4100,
 "maxImageWidth": 15000,
 "allowRasterFunction": true,
 "rasterFunctionInfos": [
  {
   "name": "None",
   "description": "",
   "help": ""
  }
 ],
 "rasterTypeInfos": [
  {
   "name": "Raster Dataset",
   "description": "Supports all ArcGIS Raster Datasets",
   "help": ""
  }
 ],
 "mensurationCapabilities": "Basic",
 "hasHistograms": true,
 "hasColormap": false,
 "hasRasterAttributeTable": true,
 "minScale": 0,
 "maxScale": 0,
 "exportTilesAllowed": false,
 "hasMultidimensions": false,
 "supportsStatistics": false,
 "supportsAdvancedQueries": false,
 "editFieldsInfo": null,
 "ownershipBasedAccessControlForRasters": null,
 "allowComputeTiePoints": false,
 "useStandardizedQueries": true,
 "advancedQueryCapabilities": {
  "useStandardizedQueries": true,
  "supportsStatistics": false,
  "supportsOrderBy": false,
  "supportsDistinct": false,
  "supportsPagination": false
 },
 "spatialReference": {
  "wkid": 102030,
  "latestWkid": 102030
 }
}
