{
 "currentVersion": 10.91,
 "serviceDescription": "Lower_Mekong_WEST/Forest_Loss_ha",
 "name": "Lower_Mekong_WEST/Forest_Loss_ha",
 "description": "",
 "extent": {
  "xmin": -2577334.8958858047,
  "ymin": 2549910.479816191,
  "xmax": -1939834.8958858047,
  "ymax": 3142210.479816191,
  "spatialReference": {
   "wkid": 102030,
   "latestWkid": 102030
  }
 },
 "initialExtent": {
  "xmin": -2577334.8958858047,
  "ymin": 2549910.479816191,
  "xmax": -1939834.8958858047,
  "ymax": 3142210.479816191,
  "spatialReference": {
   "wkid": 102030,
   "latestWkid": 102030
  }
 },
 "fullExtent": {
  "xmin": -2577334.8958858047,
  "ymin": 2549910.479816191,
  "xmax": -1939834.8958858047,
  "ymax": 3142210.479816191,
  "spatialReference": {
   "wkid": 102030,
   "latestWkid": 102030
  }
 },
 "pixelSizeX": 100,
 "pixelSizeY": 100,
 "bandCount": 1,
 "pixelType": "U16",
 "minPixelSize": 0,
 "maxPixelSize": 0,
 "copyrightText": "",
 "serviceDataType": "esriImageServiceDataTypeGeneric",
 "minValues": [
  2001
 ],
 "maxValues": [
  65535
 ],
 "meanValues": [
  62695.728115151
 ],
 "stdvValues": [
  13126.451615374
 ],
 "objectIdField": "",
 "fields": [],
 "capabilities": "Image,Metadata,Mensuration",
 "defaultMosaicMethod": "Center",
 "allowedMosaicMethods": "",
 "sortField": "",
 "sortValue": null,
 "sortAscending": true,
 "mosaicOperator": "First",
 "defaultCompressionQuality": 75,
 "defaultResamplingMethod": "Bilinear",
 "maxImageHeight": 4100,
 "maxImageWidth": 15000,
 "allowRasterFunction": true,
 "rasterFunctionInfos": [
  {
   "name": "None",
   "description": "",
   "help": ""
  }
 ],
 "rasterTypeInfos": [
  {
   "name": "Raster Dataset",
   "description": "Supports all ArcGIS Raster Datasets",
   "help": ""
  }
 ],
 "mensurationCapabilities": "Basic",
 "hasHistograms": true,
 "hasColormap": false,
 "hasRasterAttributeTable": true,
 "minScale": 0,
 "maxScale": 0,
 "exportTilesAllowed": false,
 "hasMultidimensions": false,
 "supportsStatistics": false,
 "supportsAdvancedQueries": false,
 "editFieldsInfo": null,
 "ownershipBasedAccessControlForRasters": null,
 "allowComputeTiePoints": false,
 "useStandardizedQueries": true,
 "advancedQueryCapabilities": {
  "useStandardizedQueries": true,
  "supportsStatistics": false,
  "supportsOrderBy": false,
  "supportsDistinct": false,
  "supportsPagination": false
 },
 "spatialReference": {
  "wkid": 102030,
  "latestWkid": 102030
 }
}
