{
 "currentVersion": 10.91,
 "serviceDescription": "Lower_Mekong_WEST/Fire_vulnerability",
 "name": "Lower_Mekong_WEST/Fire_vulnerability",
 "description": "",
 "extent": {
  "xmin": -2564534.8958858047,
  "ymin": 2628710.479816191,
  "xmax": -1964784.8958858047,
  "ymax": 3140710.479816191,
  "spatialReference": {
   "wkid": 102030,
   "latestWkid": 102030
  }
 },
 "initialExtent": {
  "xmin": -2564534.8958858047,
  "ymin": 2628710.479816191,
  "xmax": -1964784.8958858047,
  "ymax": 3140710.479816191,
  "spatialReference": {
   "wkid": 102030,
   "latestWkid": 102030
  }
 },
 "fullExtent": {
  "xmin": -2564534.8958858047,
  "ymin": 2628710.479816191,
  "xmax": -1964784.8958858047,
  "ymax": 3140710.479816191,
  "spatialReference": {
   "wkid": 102030,
   "latestWkid": 102030
  }
 },
 "pixelSizeX": 250,
 "pixelSizeY": 250,
 "bandCount": 1,
 "pixelType": "S8",
 "minPixelSize": 0,
 "maxPixelSize": 0,
 "copyrightText": "",
 "serviceDataType": "esriImageServiceDataTypeGeneric",
 "minValues": [
  1
 ],
 "maxValues": [
  40
 ],
 "meanValues": [
  3.3310307712678
 ],
 "stdvValues": [
  2.7696280089114
 ],
 "objectIdField": "",
 "fields": [],
 "capabilities": "Image,Metadata,Mensuration",
 "defaultMosaicMethod": "Center",
 "allowedMosaicMethods": "",
 "sortField": "",
 "sortValue": null,
 "sortAscending": true,
 "mosaicOperator": "First",
 "defaultCompressionQuality": 75,
 "defaultResamplingMethod": "Bilinear",
 "maxImageHeight": 4100,
 "maxImageWidth": 15000,
 "allowRasterFunction": true,
 "rasterFunctionInfos": [
  {
   "name": "None",
   "description": "",
   "help": ""
  }
 ],
 "rasterTypeInfos": [
  {
   "name": "Raster Dataset",
   "description": "Supports all ArcGIS Raster Datasets",
   "help": ""
  }
 ],
 "mensurationCapabilities": "Basic",
 "hasHistograms": true,
 "hasColormap": false,
 "hasRasterAttributeTable": true,
 "minScale": 0,
 "maxScale": 0,
 "exportTilesAllowed": false,
 "hasMultidimensions": false,
 "supportsStatistics": false,
 "supportsAdvancedQueries": false,
 "editFieldsInfo": null,
 "ownershipBasedAccessControlForRasters": null,
 "allowComputeTiePoints": false,
 "useStandardizedQueries": true,
 "advancedQueryCapabilities": {
  "useStandardizedQueries": true,
  "supportsStatistics": false,
  "supportsOrderBy": false,
  "supportsDistinct": false,
  "supportsPagination": false
 },
 "spatialReference": {
  "wkid": 102030,
  "latestWkid": 102030
 }
}
