{
 "currentVersion": 10.91,
 "serviceDescription": "Lower_Mekong_WEST/Biodiversity",
 "name": "Lower_Mekong_WEST/Biodiversity",
 "description": "",
 "extent": {
  "xmin": -2566734.8958858047,
  "ymin": 2554310.479816191,
  "xmax": -1963234.8958858047,
  "ymax": 3142510.479816191,
  "spatialReference": {
   "wkt": "PROJCS[\"WGS_1984_Lambert_Conformal_Conic\",GEOGCS[\"GCS_WGS_1984\",DATUM[\"D_WGS_1984\",SPHEROID[\"WGS_1984\",6378137.0,298.257223563]],PRIMEM[\"Greenwich\",0.0],UNIT[\"Degree\",0.0174532925199433]],PROJECTION[\"Lambert_Conformal_Conic\"],PARAMETER[\"False_Easting\",0.0],PARAMETER[\"False_Northing\",0.0],PARAMETER[\"Central_Meridian\",125.0],PARAMETER[\"Standard_Parallel_1\",7.0],PARAMETER[\"Standard_Parallel_2\",-32.0],PARAMETER[\"Latitude_Of_Origin\",-15.0],UNIT[\"Meter\",1.0]]"
  }
 },
 "initialExtent": {
  "xmin": -2566734.8958858047,
  "ymin": 2554310.479816191,
  "xmax": -1963234.8958858047,
  "ymax": 3142510.479816191,
  "spatialReference": {
   "wkt": "PROJCS[\"WGS_1984_Lambert_Conformal_Conic\",GEOGCS[\"GCS_WGS_1984\",DATUM[\"D_WGS_1984\",SPHEROID[\"WGS_1984\",6378137.0,298.257223563]],PRIMEM[\"Greenwich\",0.0],UNIT[\"Degree\",0.0174532925199433]],PROJECTION[\"Lambert_Conformal_Conic\"],PARAMETER[\"False_Easting\",0.0],PARAMETER[\"False_Northing\",0.0],PARAMETER[\"Central_Meridian\",125.0],PARAMETER[\"Standard_Parallel_1\",7.0],PARAMETER[\"Standard_Parallel_2\",-32.0],PARAMETER[\"Latitude_Of_Origin\",-15.0],UNIT[\"Meter\",1.0]]"
  }
 },
 "fullExtent": {
  "xmin": -2566734.8958858047,
  "ymin": 2554310.479816191,
  "xmax": -1963234.8958858047,
  "ymax": 3142510.479816191,
  "spatialReference": {
   "wkt": "PROJCS[\"WGS_1984_Lambert_Conformal_Conic\",GEOGCS[\"GCS_WGS_1984\",DATUM[\"D_WGS_1984\",SPHEROID[\"WGS_1984\",6378137.0,298.257223563]],PRIMEM[\"Greenwich\",0.0],UNIT[\"Degree\",0.0174532925199433]],PROJECTION[\"Lambert_Conformal_Conic\"],PARAMETER[\"False_Easting\",0.0],PARAMETER[\"False_Northing\",0.0],PARAMETER[\"Central_Meridian\",125.0],PARAMETER[\"Standard_Parallel_1\",7.0],PARAMETER[\"Standard_Parallel_2\",-32.0],PARAMETER[\"Latitude_Of_Origin\",-15.0],UNIT[\"Meter\",1.0]]"
  }
 },
 "pixelSizeX": 100,
 "pixelSizeY": 100,
 "bandCount": 1,
 "pixelType": "U4",
 "minPixelSize": 0,
 "maxPixelSize": 0,
 "copyrightText": "",
 "serviceDataType": "esriImageServiceDataTypeGeneric",
 "minValues": [
  1
 ],
 "maxValues": [
  5
 ],
 "meanValues": [
  2.128466262950233
 ],
 "stdvValues": [
  1.7556767479570476
 ],
 "objectIdField": "",
 "fields": [],
 "capabilities": "Image,Metadata,Mensuration",
 "defaultMosaicMethod": "Center",
 "allowedMosaicMethods": "",
 "sortField": "",
 "sortValue": null,
 "sortAscending": true,
 "mosaicOperator": "First",
 "defaultCompressionQuality": 75,
 "defaultResamplingMethod": "Bilinear",
 "maxImageHeight": 4100,
 "maxImageWidth": 15000,
 "allowRasterFunction": true,
 "rasterFunctionInfos": [
  {
   "name": "None",
   "description": "",
   "help": ""
  }
 ],
 "rasterTypeInfos": [
  {
   "name": "Raster Dataset",
   "description": "Supports all ArcGIS Raster Datasets",
   "help": ""
  }
 ],
 "mensurationCapabilities": "Basic",
 "hasHistograms": true,
 "hasColormap": false,
 "hasRasterAttributeTable": true,
 "minScale": 0,
 "maxScale": 0,
 "exportTilesAllowed": false,
 "hasMultidimensions": false,
 "supportsStatistics": false,
 "supportsAdvancedQueries": false,
 "editFieldsInfo": null,
 "ownershipBasedAccessControlForRasters": null,
 "allowComputeTiePoints": false,
 "useStandardizedQueries": true,
 "advancedQueryCapabilities": {
  "useStandardizedQueries": true,
  "supportsStatistics": false,
  "supportsOrderBy": false,
  "supportsDistinct": false,
  "supportsPagination": false
 },
 "spatialReference": {
  "wkt": "PROJCS[\"WGS_1984_Lambert_Conformal_Conic\",GEOGCS[\"GCS_WGS_1984\",DATUM[\"D_WGS_1984\",SPHEROID[\"WGS_1984\",6378137.0,298.257223563]],PRIMEM[\"Greenwich\",0.0],UNIT[\"Degree\",0.0174532925199433]],PROJECTION[\"Lambert_Conformal_Conic\"],PARAMETER[\"False_Easting\",0.0],PARAMETER[\"False_Northing\",0.0],PARAMETER[\"Central_Meridian\",125.0],PARAMETER[\"Standard_Parallel_1\",7.0],PARAMETER[\"Standard_Parallel_2\",-32.0],PARAMETER[\"Latitude_Of_Origin\",-15.0],UNIT[\"Meter\",1.0]]"
 }
}
