{ "cimVersion": "2.6.0", "serviceDescription": "", "mapName": "Map", "description": "
This dataset represents the opportunity area for implementing community forest and woolot interventions as modeled for the National Forest Landscape Restoration Assessment.<\/SPAN>Community forests (such as graveyards and village forest areas (VFAs)) and woodlots are areas of customary or private land set aside and managed for wood and range of provisioning, regulating and non-wood-cultural services including, non-timber products, medicinal plants and burial. <\/SPAN>They may be managed by a Traditional Authority, a community, a family or an individual. Community non-cultural forests and woodlots, if planned and managed properly, can provide a regular supply of products (e.g., poles, timber, fuel wood, fruit, etc.) for household consumption and/or for sale. Both through provision of wood products and income, community forests can reduce pressure on forest reserves and other protected areas.<\/SPAN><\/P> The criteria for mapping areas potentially suitable for community forests and woodlots targeted areas that are unsuitable or less desirable for cultivation, and thus would not interfere with a community\u2019s ability to produce food given the high value and competition for agricultural land. These areas were defined in this analysis as uncultivated lands on steep slopes with shallow soils, given that these conditions limit agricultural productivity. It was also important to make sure the proposed areas were within a reasonable distance of village centers because their primary benefit is to provide a local, sustainable source of fuel wood for households. To this end, the data inputs included: land cover that is currently not cultivated or used primarily for cultivation; slopes greater than 20 percent; very shallow soils (less than 30 cm) and/or soils with more than 80 percent coarse mineral fragments; areas within 5-km of a village center; and areas outside of the forest reserve and other protected area boundaries. Combining these datasets produced the map of opportunity area. <\/SPAN>The total estimated opportunities area for community forests and woodlots in Malawi is more than 753,000 hectares, which is approximately 8% of the total land area of the country.<\/SPAN><\/P> The data were then prioritized by three socioeconomic and environmental factors that were determined during stakeholder consultation to be the most important for establishing community forests and woodlots. In other words, where data for these socioeconomic or environmental criteria overlapped with opportunity area for community forests and woodlots, then the areas were identified as priorities. The three criteria used for prioritizing opportunity areas for community forests and woodlots were: 1) poverty, defined as areas with the highest proportion of population living on less than $1.25/day; 2) access to markets, which is defined as areas closest to major markets and roadways; and 3) gender, defined as areas with the highest proportion of female population (who are most commonly responsible for gathering fuelwood and non-timber forest products). <\/SPAN><\/P> This dataset identifies where all three of these socioeconomic and environmental criteria overlapped, and are therefore the highest priority for establishing community forests and woodlots. <\/SPAN><\/P><\/DIV><\/DIV> <\/P> <\/P><\/DIV><\/DIV><\/DIV>",
"copyrightText": "Ministry of Natural Resources, Energy and Mining - Malawi, International Union for Conservation of Nature (IUCN) and World Resources Institute (WRI) in support of the Forest Landscape Restoration Opportunities Assessment for Malawi, 2017.",
"supportsDynamicLayers": false,
"layers": [
{
"id": 0,
"name": "commforest_opp_all_priorities.tiff",
"parentLayerId": -1,
"defaultVisibility": true,
"subLayerIds": null,
"minScale": 0,
"maxScale": 0,
"type": "Raster Layer",
"supportsDynamicLegends": true
}
],
"tables": [],
"spatialReference": {
"wkid": 102100,
"latestWkid": 3857,
"xyTolerance": 0.001,
"zTolerance": 0.001,
"mTolerance": 0.001,
"falseX": -20037700,
"falseY": -30241100,
"xyUnits": 10000,
"falseZ": -100000,
"zUnits": 10000,
"falseM": -100000,
"mUnits": 10000
},
"singleFusedMapCache": true,
"tileInfo": {
"rows": 256,
"cols": 256,
"dpi": 96,
"format": "Mixed",
"compressionQuality": 75,
"origin": {
"x": -2.0037508342787E7,
"y": 2.0037508342787E7
},
"spatialReference": {
"wkid": 102100,
"latestWkid": 3857,
"xyTolerance": 0.001,
"zTolerance": 0.001,
"mTolerance": 0.001,
"falseX": -20037700,
"falseY": -30241100,
"xyUnits": 1.4892314192838538E8,
"falseZ": -100000,
"zUnits": 10000,
"falseM": -100000,
"mUnits": 10000
},
"lods": [
{
"level": 0,
"resolution": 156543.033928,
"scale": 5.91657527591555E8
},
{
"level": 1,
"resolution": 78271.5169639999,
"scale": 2.95828763795777E8
},
{
"level": 2,
"resolution": 39135.7584820001,
"scale": 1.47914381897889E8
},
{
"level": 3,
"resolution": 19567.8792409999,
"scale": 7.3957190948944E7
},
{
"level": 4,
"resolution": 9783.93962049996,
"scale": 3.6978595474472E7
},
{
"level": 5,
"resolution": 4891.96981024998,
"scale": 1.8489297737236E7
},
{
"level": 6,
"resolution": 2445.98490512499,
"scale": 9244648.868618
},
{
"level": 7,
"resolution": 1222.99245256249,
"scale": 4622324.434309
},
{
"level": 8,
"resolution": 611.49622628138,
"scale": 2311162.217155
},
{
"level": 9,
"resolution": 305.748113140558,
"scale": 1155581.108577
},
{
"level": 10,
"resolution": 152.874056570411,
"scale": 577790.554289
},
{
"level": 11,
"resolution": 76.4370282850732,
"scale": 288895.277144
},
{
"level": 12,
"resolution": 38.2185141425366,
"scale": 144447.638572
},
{
"level": 13,
"resolution": 19.1092570712683,
"scale": 72223.819286
},
{
"level": 14,
"resolution": 9.55462853563415,
"scale": 36111.909643
},
{
"level": 15,
"resolution": 4.77731426794937,
"scale": 18055.954822
},
{
"level": 16,
"resolution": 2.38865713397468,
"scale": 9027.977411
},
{
"level": 17,
"resolution": 1.19432856685505,
"scale": 4513.988705
},
{
"level": 18,
"resolution": 0.597164283559817,
"scale": 2256.994353
},
{
"level": 19,
"resolution": 0.298582141647617,
"scale": 1128.497176
},
{
"level": 20,
"resolution": 0.14929107082380833,
"scale": 564.248588
},
{
"level": 21,
"resolution": 0.07464553541190416,
"scale": 282.124294
},
{
"level": 22,
"resolution": 0.03732276770595208,
"scale": 141.062147
},
{
"level": 23,
"resolution": 0.01866138385297604,
"scale": 70.5310735
}
]
},
"initialExtent": {
"xmin": 3113584.566268124,
"ymin": -1996006.4432298916,
"xmax": 4524240.027811635,
"ymax": -982695.248803283,
"spatialReference": {
"cs": "pcs",
"wkid": 102100
}
},
"fullExtent": {
"xmin": 3626417.6088260617,
"ymin": -1948295.4245632037,
"xmax": 4012570.359923732,
"ymax": -1035636.9419663225,
"spatialReference": {
"cs": "pcs",
"wkid": 102100
}
},
"units": "esriMeters",
"supportedImageFormatTypes": "PNG32,PNG24,PNG,JPG,DIB,TIFF,EMF,PS,PDF,GIF,SVG,SVGZ,BMP",
"documentInfo": {
"Title": "C:\\Users\\meyru.bhanti\\Documents\\ArcGIS\\Projects\\Malawi\\Malawi.aprx",
"Author": "",
"Comments": "",
"Subject": "",
"Category": "",
"AntialiasingMode": "None",
"TextAntialiasingMode": "Force",
"Keywords": ""
},
"supportedQueryFormats": "JSON, geoJSON, PBF",
"referenceScale": 0.0,
"supportsDatumTransformation": true,
"archivingInfo": {"supportsHistoricMoment": false},
"supportsClipping": true,
"supportsSpatialFilter": true,
"supportsQueryDataElements": true,
"maxRecordCount": 1000,
"maxImageHeight": 4096,
"maxImageWidth": 4096,
"minScale": 4622324.434309,
"maxScale": 144447.638572,
"exportTilesAllowed": false,
"maxExportTilesCount": 100000,
"currentVersion": 11.4,
"capabilities": "TilesOnly,Tilemap",
"supportedExtensions": "",
"serviceItemId": "5b8772ac098742c281620632b5b5f14e"
}