{
 "currentVersion": 10.91,
 "serviceDescription": "FRD2018_QuangNinh_Main_10m_tif",
 "name": "FRD2018_QuangNinh_Main_10m_tif",
 "description": "",
 "extent": {
  "xmin": 650046.654820655,
  "ymin": 2292858.16800237,
  "xmax": 820386.654820655,
  "ymax": 2397758.16800237,
  "spatialReference": {
   "wkid": 3405,
   "latestWkid": 3405
  }
 },
 "initialExtent": {
  "xmin": 650046.654820655,
  "ymin": 2292858.16800237,
  "xmax": 820386.654820655,
  "ymax": 2397758.16800237,
  "spatialReference": {
   "wkid": 3405,
   "latestWkid": 3405
  }
 },
 "fullExtent": {
  "xmin": 650046.654820655,
  "ymin": 2292858.16800237,
  "xmax": 820386.654820655,
  "ymax": 2397758.16800237,
  "spatialReference": {
   "wkid": 3405,
   "latestWkid": 3405
  }
 },
 "pixelSizeX": 10,
 "pixelSizeY": 10,
 "bandCount": 1,
 "pixelType": "U4",
 "minPixelSize": 0,
 "maxPixelSize": 0,
 "copyrightText": "",
 "serviceDataType": "esriImageServiceDataTypeThematic",
 "minValues": [
  1
 ],
 "maxValues": [
  4
 ],
 "meanValues": [
  1.7221629394561
 ],
 "stdvValues": [
  0.8882627296351
 ],
 "objectIdField": "",
 "fields": [],
 "capabilities": "Image,Metadata,Mensuration",
 "defaultMosaicMethod": "Center",
 "allowedMosaicMethods": "",
 "sortField": "",
 "sortValue": null,
 "sortAscending": true,
 "mosaicOperator": "First",
 "defaultCompressionQuality": 75,
 "defaultResamplingMethod": "Bilinear",
 "maxImageHeight": 4100,
 "maxImageWidth": 15000,
 "allowRasterFunction": true,
 "rasterFunctionInfos": [
  {
   "name": "None",
   "description": "",
   "help": ""
  }
 ],
 "rasterTypeInfos": [
  {
   "name": "Raster Dataset",
   "description": "Supports all ArcGIS Raster Datasets",
   "help": ""
  }
 ],
 "mensurationCapabilities": "Basic",
 "hasHistograms": true,
 "hasColormap": false,
 "hasRasterAttributeTable": true,
 "minScale": 0,
 "maxScale": 0,
 "exportTilesAllowed": false,
 "hasMultidimensions": false,
 "supportsStatistics": false,
 "supportsAdvancedQueries": false,
 "editFieldsInfo": null,
 "ownershipBasedAccessControlForRasters": null,
 "allowComputeTiePoints": false,
 "useStandardizedQueries": true,
 "advancedQueryCapabilities": {
  "useStandardizedQueries": true,
  "supportsStatistics": false,
  "supportsOrderBy": false,
  "supportsDistinct": false,
  "supportsPagination": false
 },
 "spatialReference": {
  "wkid": 3405,
  "latestWkid": 3405
 }
}
