{
 "currentVersion": 10.91,
 "serviceDescription": "Agriculture_opportunities_all_priorities",
 "name": "Agriculture_opportunities_all_priorities",
 "description": "",
 "extent": {
  "xmin": 454995,
  "ymin": 8094355,
  "xmax": 823935,
  "ymax": 8974765,
  "spatialReference": {
   "wkid": 32736,
   "latestWkid": 32736
  }
 },
 "initialExtent": {
  "xmin": 454995,
  "ymin": 8094355,
  "xmax": 823935,
  "ymax": 8974765,
  "spatialReference": {
   "wkid": 32736,
   "latestWkid": 32736
  }
 },
 "fullExtent": {
  "xmin": 454995,
  "ymin": 8094355,
  "xmax": 823935,
  "ymax": 8974765,
  "spatialReference": {
   "wkid": 32736,
   "latestWkid": 32736
  }
 },
 "pixelSizeX": 30,
 "pixelSizeY": 30,
 "bandCount": 1,
 "pixelType": "S32",
 "minPixelSize": 0,
 "maxPixelSize": 0,
 "copyrightText": "",
 "serviceDataType": "esriImageServiceDataTypeThematic",
 "minValues": [
  0
 ],
 "maxValues": [
  1101
 ],
 "meanValues": [
  48.697219063911
 ],
 "stdvValues": [
  208.52427435159
 ],
 "objectIdField": "",
 "fields": [],
 "capabilities": "Image,Metadata,Mensuration",
 "defaultMosaicMethod": "Center",
 "allowedMosaicMethods": "",
 "sortField": "",
 "sortValue": null,
 "sortAscending": true,
 "mosaicOperator": "First",
 "defaultCompressionQuality": 75,
 "defaultResamplingMethod": "Bilinear",
 "maxImageHeight": 4100,
 "maxImageWidth": 15000,
 "allowRasterFunction": true,
 "rasterFunctionInfos": [
  {
   "name": "None",
   "description": "",
   "help": ""
  }
 ],
 "rasterTypeInfos": [
  {
   "name": "Raster Dataset",
   "description": "Supports all ArcGIS Raster Datasets",
   "help": ""
  }
 ],
 "mensurationCapabilities": "Basic",
 "hasHistograms": true,
 "hasColormap": false,
 "hasRasterAttributeTable": true,
 "minScale": 0,
 "maxScale": 0,
 "exportTilesAllowed": false,
 "hasMultidimensions": false,
 "supportsStatistics": false,
 "supportsAdvancedQueries": false,
 "editFieldsInfo": null,
 "ownershipBasedAccessControlForRasters": null,
 "allowComputeTiePoints": false,
 "useStandardizedQueries": true,
 "advancedQueryCapabilities": {
  "useStandardizedQueries": true,
  "supportsStatistics": false,
  "supportsOrderBy": false,
  "supportsDistinct": false,
  "supportsPagination": false
 },
 "spatialReference": {
  "wkid": 32736,
  "latestWkid": 32736
 }
}
