{
 "currentVersion": 10.91,
 "serviceDescription": "20190613_afforestation_reclass_tif",
 "name": "20190613_afforestation_reclass_tif",
 "description": "",
 "extent": {
  "xmin": 434584.9853070751,
  "ymin": 2133482.503525469,
  "xmax": 609259.9853070751,
  "ymax": 2285732.503525469,
  "spatialReference": {
   "wkid": 3405,
   "latestWkid": 3405
  }
 },
 "initialExtent": {
  "xmin": 434584.9853070751,
  "ymin": 2133482.503525469,
  "xmax": 609259.9853070751,
  "ymax": 2285732.503525469,
  "spatialReference": {
   "wkid": 3405,
   "latestWkid": 3405
  }
 },
 "fullExtent": {
  "xmin": 434584.9853070751,
  "ymin": 2133482.503525469,
  "xmax": 609259.9853070751,
  "ymax": 2285732.503525469,
  "spatialReference": {
   "wkid": 3405,
   "latestWkid": 3405
  }
 },
 "pixelSizeX": 15,
 "pixelSizeY": 15,
 "bandCount": 1,
 "pixelType": "U16",
 "minPixelSize": 0,
 "maxPixelSize": 0,
 "copyrightText": "",
 "serviceDataType": "esriImageServiceDataTypeGeneric",
 "minValues": [
  0
 ],
 "maxValues": [
  3
 ],
 "meanValues": [
  0.15110034738013
 ],
 "stdvValues": [
  0.62665184238827
 ],
 "objectIdField": "",
 "fields": [],
 "capabilities": "Image,Metadata,Mensuration",
 "defaultMosaicMethod": "Center",
 "allowedMosaicMethods": "",
 "sortField": "",
 "sortValue": null,
 "sortAscending": true,
 "mosaicOperator": "First",
 "defaultCompressionQuality": 75,
 "defaultResamplingMethod": "Bilinear",
 "maxImageHeight": 4100,
 "maxImageWidth": 15000,
 "allowRasterFunction": true,
 "rasterFunctionInfos": [
  {
   "name": "None",
   "description": "",
   "help": ""
  }
 ],
 "rasterTypeInfos": [
  {
   "name": "Raster Dataset",
   "description": "Supports all ArcGIS Raster Datasets",
   "help": ""
  }
 ],
 "mensurationCapabilities": "Basic",
 "hasHistograms": true,
 "hasColormap": false,
 "hasRasterAttributeTable": true,
 "minScale": 0,
 "maxScale": 0,
 "exportTilesAllowed": false,
 "hasMultidimensions": false,
 "supportsStatistics": false,
 "supportsAdvancedQueries": false,
 "editFieldsInfo": null,
 "ownershipBasedAccessControlForRasters": null,
 "allowComputeTiePoints": false,
 "useStandardizedQueries": true,
 "advancedQueryCapabilities": {
  "useStandardizedQueries": true,
  "supportsStatistics": false,
  "supportsOrderBy": false,
  "supportsDistinct": false,
  "supportsPagination": false
 },
 "spatialReference": {
  "wkid": 3405,
  "latestWkid": 3405
 }
}
